BEGIN:VCALENDAR
VERSION:2.0
PRODID:-//Gillian McMillan - ECPv6.2.9//NONSGML v1.0//EN
CALSCALE:GREGORIAN
METHOD:PUBLISH
X-WR-CALNAME:Gillian McMillan
X-ORIGINAL-URL:https://theotherpottery.co.uk
X-WR-CALDESC:Events for Gillian McMillan
REFRESH-INTERVAL;VALUE=DURATION:PT1H
X-Robots-Tag:noindex
X-PUBLISHED-TTL:PT1H
BEGIN:VTIMEZONE
TZID:Europe/London
BEGIN:DAYLIGHT
TZOFFSETFROM:+0000
TZOFFSETTO:+0100
TZNAME:BST
DTSTART:20160327T010000
END:DAYLIGHT
BEGIN:STANDARD
TZOFFSETFROM:+0100
TZOFFSETTO:+0000
TZNAME:GMT
DTSTART:20161030T010000
END:STANDARD
BEGIN:DAYLIGHT
TZOFFSETFROM:+0000
TZOFFSETTO:+0100
TZNAME:BST
DTSTART:20170326T010000
END:DAYLIGHT
BEGIN:STANDARD
TZOFFSETFROM:+0100
TZOFFSETTO:+0000
TZNAME:GMT
DTSTART:20171029T010000
END:STANDARD
BEGIN:DAYLIGHT
TZOFFSETFROM:+0000
TZOFFSETTO:+0100
TZNAME:BST
DTSTART:20180325T010000
END:DAYLIGHT
BEGIN:STANDARD
TZOFFSETFROM:+0100
TZOFFSETTO:+0000
TZNAME:GMT
DTSTART:20181028T010000
END:STANDARD
BEGIN:DAYLIGHT
TZOFFSETFROM:+0000
TZOFFSETTO:+0100
TZNAME:BST
DTSTART:20190331T010000
END:DAYLIGHT
BEGIN:STANDARD
TZOFFSETFROM:+0100
TZOFFSETTO:+0000
TZNAME:GMT
DTSTART:20191027T010000
END:STANDARD
BEGIN:DAYLIGHT
TZOFFSETFROM:+0000
TZOFFSETTO:+0100
TZNAME:BST
DTSTART:20200329T010000
END:DAYLIGHT
BEGIN:STANDARD
TZOFFSETFROM:+0100
TZOFFSETTO:+0000
TZNAME:GMT
DTSTART:20201025T010000
END:STANDARD
BEGIN:DAYLIGHT
TZOFFSETFROM:+0000
TZOFFSETTO:+0100
TZNAME:BST
DTSTART:20210328T010000
END:DAYLIGHT
BEGIN:STANDARD
TZOFFSETFROM:+0100
TZOFFSETTO:+0000
TZNAME:GMT
DTSTART:20211031T010000
END:STANDARD
BEGIN:DAYLIGHT
TZOFFSETFROM:+0000
TZOFFSETTO:+0100
TZNAME:BST
DTSTART:20220327T010000
END:DAYLIGHT
BEGIN:STANDARD
TZOFFSETFROM:+0100
TZOFFSETTO:+0000
TZNAME:GMT
DTSTART:20221030T010000
END:STANDARD
END:VTIMEZONE
BEGIN:VEVENT
DTSTART;VALUE=DATE:20220910
DTEND;VALUE=DATE:20220912
DTSTAMP:20260422T231646
CREATED:20220906T110831Z
LAST-MODIFIED:20220906T110831Z
UID:217-1662768000-1662940799@theotherpottery.co.uk
SUMMARY:Wardlow Mires Pottery and Food Festival
DESCRIPTION:
URL:https://theotherpottery.co.uk/event/wardlow-mires-pottery-and-food-festival/
LOCATION:Wardlow Mires Pottery and Food Festival\, The Three Stags Head Pub\, Wardlow\, Derbyshire\, SK17 8RW\, United Kingdom
END:VEVENT
BEGIN:VEVENT
DTSTART;VALUE=DATE:20220623
DTEND;VALUE=DATE:20220627
DTSTAMP:20260422T231646
CREATED:20220405T072405Z
LAST-MODIFIED:20220405T072405Z
UID:207-1655942400-1656287999@theotherpottery.co.uk
SUMMARY:Handmade in Oxford
DESCRIPTION:
URL:https://theotherpottery.co.uk/event/handmade-in-oxford/
LOCATION:handmade oxford\, Waterperry Gardens\, Oxford\, OX33 1LA\, United Kingdom
END:VEVENT
BEGIN:VEVENT
DTSTART;VALUE=DATE:20201107
DTEND;VALUE=DATE:20201108
DTSTAMP:20260422T231646
CREATED:20200922T070756Z
LAST-MODIFIED:20200922T070756Z
UID:201-1604707200-1604793599@theotherpottery.co.uk
SUMMARY:Indie Fairs
DESCRIPTION:
URL:https://theotherpottery.co.uk/event/indie-fairs/
LOCATION:Indie Fairs\, Warwick Hall St John the Baptist Church Green\, Burford\, OX18 4RY\, United Kingdom
END:VEVENT
BEGIN:VEVENT
DTSTART;VALUE=DATE:20200925
DTEND;VALUE=DATE:20200928
DTSTAMP:20260422T231646
CREATED:20180210T225940Z
LAST-MODIFIED:20200922T065806Z
UID:174-1600992000-1601251199@theotherpottery.co.uk
SUMMARY:Potfest at the Palace
DESCRIPTION:
URL:https://theotherpottery.co.uk/event/potfest-at-the-palace-2/
LOCATION:Potfest\, Scone Palace\, Perth\, Scotland\, United Kingdom
END:VEVENT
BEGIN:VEVENT
DTSTART;VALUE=DATE:20190512
DTEND;VALUE=DATE:20190513
DTSTAMP:20260422T231646
CREATED:20190107T220706Z
LAST-MODIFIED:20190107T220706Z
UID:192-1557619200-1557705599@theotherpottery.co.uk
SUMMARY:Ceramics in Charnwood
DESCRIPTION:
URL:https://theotherpottery.co.uk/event/ceramics-in-charnwood-3/
LOCATION:Ceramics in Charnwood\, Market Place\, Loughborough\, United Kingdom
END:VEVENT
BEGIN:VEVENT
DTSTART;VALUE=DATE:20190313
DTEND;VALUE=DATE:20190415
DTSTAMP:20260422T231646
CREATED:20190107T220608Z
LAST-MODIFIED:20190107T220608Z
UID:189-1552435200-1555286399@theotherpottery.co.uk
SUMMARY:Valentine Clays
DESCRIPTION:
URL:https://theotherpottery.co.uk/event/valentine-clays/
LOCATION:Valentine Clays\, Valentine Way\, Stoke-on-Trent\, Staffordshire\, ST4 2FJ\, United Kingdom
END:VEVENT
BEGIN:VEVENT
DTSTART;VALUE=DATE:20190119
DTEND;VALUE=DATE:20190224
DTSTAMP:20260422T231646
CREATED:20190107T220247Z
LAST-MODIFIED:20190107T220330Z
UID:185-1547856000-1550966399@theotherpottery.co.uk
SUMMARY:Stillness of Motion
DESCRIPTION:Exhibition with Peter Davis\, watercolour
URL:https://theotherpottery.co.uk/event/stillness-of-motion/
LOCATION:Birch Tree Gallery\, 23a Dundas Street\, Edinburgh\, EH3 6QQ
ORGANIZER;CN="":MAILTO:art@birchtreegallery.co.uk
END:VEVENT
BEGIN:VEVENT
DTSTART;VALUE=DATE:20180707
DTEND;VALUE=DATE:20180708
DTSTAMP:20260422T231646
CREATED:20180210T230151Z
LAST-MODIFIED:20180210T230151Z
UID:179-1530921600-1531007999@theotherpottery.co.uk
SUMMARY:Lichfield Festival
DESCRIPTION:
URL:https://theotherpottery.co.uk/event/lichfield-festival-2/
LOCATION:Lichfield Festival\, Cathedral Close\, Lichfield\, United Kingdom
END:VEVENT
BEGIN:VEVENT
DTSTART;VALUE=DATE:20180616
DTEND;VALUE=DATE:20180618
DTSTAMP:20260422T231646
CREATED:20180210T230112Z
LAST-MODIFIED:20180210T230112Z
UID:176-1529107200-1529279999@theotherpottery.co.uk
SUMMARY:Ceramics at Middleport Pottery
DESCRIPTION:
URL:https://theotherpottery.co.uk/event/ceramics-middleport-pottery/
LOCATION:Middleport Pottery\, Stoke On Trent
END:VEVENT
BEGIN:VEVENT
DTSTART;VALUE=DATE:20180526
DTEND;VALUE=DATE:20180529
DTSTAMP:20260422T231646
CREATED:20180210T225702Z
LAST-MODIFIED:20180210T225702Z
UID:171-1527292800-1527551999@theotherpottery.co.uk
SUMMARY:Northern Potters Exhibition
DESCRIPTION:
URL:https://theotherpottery.co.uk/event/northern-potters-exhibition/
LOCATION:Old Parsonage\, Didsbury\, Manchester\, United Kingdom
END:VEVENT
BEGIN:VEVENT
DTSTART;VALUE=DATE:20180325
DTEND;VALUE=DATE:20180326
DTSTAMP:20260422T231646
CREATED:20180210T225400Z
LAST-MODIFIED:20180210T225400Z
UID:167-1521936000-1522022399@theotherpottery.co.uk
SUMMARY:Crafts at Clayton Community Centre
DESCRIPTION:
URL:https://theotherpottery.co.uk/event/crafts-clayton-community-centre/
END:VEVENT
BEGIN:VEVENT
DTSTART;VALUE=DATE:20171126
DTEND;VALUE=DATE:20171127
DTSTAMP:20260422T231646
CREATED:20170914T155414Z
LAST-MODIFIED:20170914T155414Z
UID:163-1511654400-1511740799@theotherpottery.co.uk
SUMMARY:Christmas Fair with Douglas McMillan
DESCRIPTION:
URL:https://theotherpottery.co.uk/event/christmas-fair-douglas-mcmillan/
LOCATION:Keele Hall\, Keele University\, Newcastle Under Lyme\, United Kingdom
END:VEVENT
BEGIN:VEVENT
DTSTART;VALUE=DATE:20171014
DTEND;VALUE=DATE:20171015
DTSTAMP:20260422T231646
CREATED:20170914T155237Z
LAST-MODIFIED:20170914T155237Z
UID:161-1507939200-1508025599@theotherpottery.co.uk
SUMMARY:New Vic Theatre with North Staffs Guild of Craftsmen
DESCRIPTION:
URL:https://theotherpottery.co.uk/event/new-vic-theatre-north-staffs-guild-craftsmen/
LOCATION:New Vic Theatre\, Etruria Road\, Newcastle Under Lyme\, Staffordshire\, United Kingdom
END:VEVENT
BEGIN:VEVENT
DTSTART;VALUE=DATE:20170917
DTEND;VALUE=DATE:20170918
DTSTAMP:20260422T231646
CREATED:20170914T155152Z
LAST-MODIFIED:20170914T155152Z
UID:159-1505606400-1505692799@theotherpottery.co.uk
SUMMARY:Ceramics Festival
DESCRIPTION:
URL:https://theotherpottery.co.uk/event/ceramics-festival/
LOCATION:2 Door Studio\, Alsager\, Staffordshire\, United Kingdom
END:VEVENT
BEGIN:VEVENT
DTSTART;VALUE=DATE:20170804
DTEND;VALUE=DATE:20170807
DTSTAMP:20260422T231646
CREATED:20160714T190937Z
LAST-MODIFIED:20170118T125144Z
UID:102-1501804800-1502063999@theotherpottery.co.uk
SUMMARY:Potfest in the Pens
DESCRIPTION:
URL:https://theotherpottery.co.uk/event/potfest-in-the-pens/
LOCATION:Potfest\, Scone Palace\, Perth\, Scotland\, United Kingdom
END:VEVENT
BEGIN:VEVENT
DTSTART;VALUE=DATE:20170708
DTEND;VALUE=DATE:20170709
DTSTAMP:20260422T231646
CREATED:20170118T125436Z
LAST-MODIFIED:20170118T125436Z
UID:146-1499472000-1499558399@theotherpottery.co.uk
SUMMARY:Lichfield Festival
DESCRIPTION:
URL:https://theotherpottery.co.uk/event/lichfield-festival/
LOCATION:Lichfield Festival\, Cathedral Close\, Lichfield\, United Kingdom
END:VEVENT
BEGIN:VEVENT
DTSTART;VALUE=DATE:20170609
DTEND;VALUE=DATE:20170612
DTSTAMP:20260422T231646
CREATED:20170126T094322Z
LAST-MODIFIED:20170126T094322Z
UID:151-1496966400-1497225599@theotherpottery.co.uk
SUMMARY:Potfest at the Palace
DESCRIPTION:
URL:https://theotherpottery.co.uk/event/potfest-at-the-palace/
LOCATION:Scone Palace\, Perth\, Scotland\, United Kingdom
END:VEVENT
BEGIN:VEVENT
DTSTART;VALUE=DATE:20170514
DTEND;VALUE=DATE:20170515
DTSTAMP:20260422T231646
CREATED:20170118T125328Z
LAST-MODIFIED:20170118T125328Z
UID:143-1494720000-1494806399@theotherpottery.co.uk
SUMMARY:Ceramics in Charnwood
DESCRIPTION:
URL:https://theotherpottery.co.uk/event/ceramics-in-charnwood/
LOCATION:Ceramics in Charnwood\, Market Place\, Loughborough\, United Kingdom
END:VEVENT
BEGIN:VEVENT
DTSTART;VALUE=DATE:20161001
DTEND;VALUE=DATE:20161002
DTSTAMP:20260422T231646
CREATED:20160714T191423Z
LAST-MODIFIED:20160714T191423Z
UID:108-1475280000-1475366399@theotherpottery.co.uk
SUMMARY:New Vic Theatre Show
DESCRIPTION:
URL:https://theotherpottery.co.uk/event/new-vic-theatre-show/
LOCATION:New Vic Theatre\, Etruria Road\, Newcastle Under Lyme\, Staffordshire\, United Kingdom
END:VEVENT
BEGIN:VEVENT
DTSTART;VALUE=DATE:20160918
DTEND;VALUE=DATE:20160919
DTSTAMP:20260422T231646
CREATED:20160714T191304Z
LAST-MODIFIED:20160714T191304Z
UID:106-1474156800-1474243199@theotherpottery.co.uk
SUMMARY:Alsager Show
DESCRIPTION:With the Northern Potters Association
URL:https://theotherpottery.co.uk/event/alsager-show/
LOCATION:2 Door Studio\, Alsager\, Staffordshire\, United Kingdom
END:VEVENT
BEGIN:VEVENT
DTSTART;VALUE=DATE:20160911
DTEND;VALUE=DATE:20160912
DTSTAMP:20260422T231646
CREATED:20160714T191138Z
LAST-MODIFIED:20160714T191138Z
UID:104-1473552000-1473638399@theotherpottery.co.uk
SUMMARY:Clayton Show
DESCRIPTION:
URL:https://theotherpottery.co.uk/event/clayton-show/
LOCATION:Community Centre\, Northwood Lane\, Clayton\, ST5 4BN\, United Kingdom
END:VEVENT
END:VCALENDAR